BEGIN:VCALENDAR
VERSION:2.0
PRODID:-//Musikverein Holdorf e.V. - ECPv6.15.20//NONSGML v1.0//EN
CALSCALE:GREGORIAN
METHOD:PUBLISH
X-WR-CALNAME:Musikverein Holdorf e.V.
X-ORIGINAL-URL:https://musikverein-holdorf.de
X-WR-CALDESC:Veranstaltungen für Musikverein Holdorf e.V.
REFRESH-INTERVAL;VALUE=DURATION:PT1H
X-Robots-Tag:noindex
X-PUBLISHED-TTL:PT1H
BEGIN:VTIMEZONE
TZID:Europe/Berlin
BEGIN:DAYLIGHT
TZOFFSETFROM:+0100
TZOFFSETTO:+0200
TZNAME:CEST
DTSTART:20250330T010000
END:DAYLIGHT
BEGIN:STANDARD
TZOFFSETFROM:+0200
TZOFFSETTO:+0100
TZNAME:CET
DTSTART:20251026T010000
END:STANDARD
BEGIN:DAYLIGHT
TZOFFSETFROM:+0100
TZOFFSETTO:+0200
TZNAME:CEST
DTSTART:20260329T010000
END:DAYLIGHT
BEGIN:STANDARD
TZOFFSETFROM:+0200
TZOFFSETTO:+0100
TZNAME:CET
DTSTART:20261025T010000
END:STANDARD
BEGIN:DAYLIGHT
TZOFFSETFROM:+0100
TZOFFSETTO:+0200
TZNAME:CEST
DTSTART:20270328T010000
END:DAYLIGHT
BEGIN:STANDARD
TZOFFSETFROM:+0200
TZOFFSETTO:+0100
TZNAME:CET
DTSTART:20271031T010000
END:STANDARD
END:VTIMEZONE
BEGIN:VEVENT
DTSTART;TZID=Europe/Berlin:20261010T193000
DTEND;TZID=Europe/Berlin:20261010T213000
DTSTAMP:20260421T102129
CREATED:20260105T104206Z
LAST-MODIFIED:20260105T104420Z
UID:722-1791660600-1791667800@musikverein-holdorf.de
SUMMARY:Steel & Sound - Jahreskonzert in der Seppeler Feuerverzinkung
DESCRIPTION:🎵 „Steel & Sound“ – Rock-Classics u.a.\n📍 Seppeler Feuerverzinkung Holdorf GmbH & Co. KG\n📅 10.10.2026 – 19:30 Uhr \n  \nVorverkaufsstellen:\n   •Volksbank Damme-Berge\n•Getränke Grummel\n•Bei allen Orchestermitgliedern\n•Online: www.musikverein-holdorf.de \nEintritt:\n   •Vorverkauf: 20 €\n•Abendkasse: 22 €\n•Kinder unter 12 Jahren: frei \n 
URL:https://musikverein-holdorf.de/event/steel-sound-jahreskonzert-in-der-seppeler-feuerverzinkung/
LOCATION:Seppeler Feuerverzinkung Holdorf GmbH & Co.KG\, Industriestraße 28\, Holdorf\, 49451\, Germany
ORGANIZER;CN="Musikverein Holdorf e.V.":MAILTO:kontakt@musikverein-holdorf.de
END:VEVENT
BEGIN:VEVENT
DTSTART;TZID=Europe/Berlin:20261129T180000
DTEND;TZID=Europe/Berlin:20261129T190000
DTSTAMP:20260421T102129
CREATED:20260105T104246Z
LAST-MODIFIED:20260105T104246Z
UID:725-1795975200-1795978800@musikverein-holdorf.de
SUMMARY:Einstimmung in den Advent
DESCRIPTION:
URL:https://musikverein-holdorf.de/event/einstimmung-in-den-advent/
LOCATION:St. Peter und Paul Holdorf
END:VEVENT
END:VCALENDAR